BEGIN:VCALENDAR
VERSION:2.0
PRODID:-//TYPO3/NONSGML News system (news)//EN
BEGIN:VEVENT
TZID:Central Europe Standard Time
UID:news-63037@physik.tu-dortmund.de
DTSTAMP:20260421T143632Z

DTSTART:20260616T160000
DTEND:20260616T170000


LOCATION:Hörsaalgebäude II, Hörsaal 2

DESCRIPTION:https://physik.tu-dortmund.de/en/eventdetail/inaugural-lecture-of-prof-dr-jonas-grotevent-63037/
SUMMARY:Inaugural lecture of Prof. Dr. Jonas Grotevent
END:VEVENT
END:VCALENDAR
