BEGIN:VCALENDAR
VERSION:2.0
PRODID:-//TYPO3/NONSGML News system (news)//EN
BEGIN:VEVENT
TZID:Central Europe Standard Time
UID:news-62991@physik.tu-dortmund.de
DTSTAMP:20260421T082844Z

DTSTART:20260714T160000
DTEND:20260714T170000


LOCATION:Hörsaalgebäude II, Hörsaal 2

DESCRIPTION:https://physik.tu-dortmund.de/en/eventdetail/challenges-of-multi-scale-x-ray-imaging-optics-wavefield-reconstruction-and-biomedical-applications-62991/
SUMMARY:Challenges of multi-scale X-ray imaging: optics, wavefield, reconstruction, and biomedical applications
END:VEVENT
END:VCALENDAR
