BEGIN:VCALENDAR
VERSION:2.0
PRODID:-//TYPO3/NONSGML News system (news)//EN
BEGIN:VEVENT
TZID:Central Europe Standard Time
UID:news-63141@physik.tu-dortmund.de
DTSTAMP:20260424T143345Z

DTSTART:20260430T090000
DTEND:20260430T093000


LOCATION:AV-Raum + ZOOM

DESCRIPTION:https://physik.tu-dortmund.de/veranstaltungsdetail/promotionsvortrag-von-lars-kolk-63141/
SUMMARY:Promotionsvortrag von Lars Kolk
END:VEVENT
END:VCALENDAR
